BEGIN:VCALENDAR
VERSION:2.0
PRODID:icalendar-ruby
CALSCALE:GREGORIAN
METHOD:PUBLISH
BEGIN:VEVENT
DTSTAMP:20260424T143628Z
UID:3117-2026709@vancouver.anglican.ca
DTSTART:20250128T030000Z
DTEND:20250128T043000Z
CLASS:PUBLIC
CREATED:20250113T150143
DESCRIPTION:An Induction Liturgy for the Rev. Philip Cochrane will occur on
  January 27 at 7pm at St. Laurence\, Coquitlam.
LAST-MODIFIED:20250113T150143
LOCATION:
SUMMARY:Celebration of a New Ministry
URL;VALUE=URI:https://www.vancouver.anglican.ca/events/celebration-of-a-new
 -ministry--3117/2025-01-27
ATTACH;FILENAME=New Ministry (1500 x 787 px).jpg;FMTTYPE=image/jpeg:https:/
 /dq5pwpg1q8ru0.cloudfront.net/2025/01/13/23/01/20/99534458-2cac-418c-b78a-
 21989150a88c/New%20Ministry%20(1500%20x%20787%20px).jpg
END:VEVENT
END:VCALENDAR
