BEGIN:VCALENDAR
VERSION:2.0
PRODID:icalendar-ruby
CALSCALE:GREGORIAN
METHOD:PUBLISH
BEGIN:VEVENT
DTSTAMP:20260424T091011Z
UID:3272-2409419@vancouver.anglican.ca
DTSTART:20251005T230000Z
DTEND:20251006T013000Z
CLASS:PUBLIC
CREATED:20250922T160224
DESCRIPTION:Parishioners\, friends in the diocese and the community\, and e
 veryone who has an association with St Philip's is invited to share in the
  celebration of St Philip's 100 years. Worship at this special Centennial 
 Evensong and then gather in the gym for a community reception with refresh
 ments for all. Find old friends and share your stories and photos of St Ph
 ilip's: singing in the choir\, playing a shepherd on Christmas Eve\, setti
 ng pins in the bowling alleys\, dancing in the gym. \nWe invite you all t
 o give thanks and celebrate together!
LAST-MODIFIED:20250922T160224
LOCATION:
SUMMARY:Centennial Evensong 
URL;VALUE=URI:https://www.vancouver.anglican.ca/events/centennial-evensong/
 2025-10-05
ATTACH;FILENAME=Invitation Centennial Evensong.jpg;FMTTYPE=image/jpeg:https
 ://dq5pwpg1q8ru0.cloudfront.net/2025/09/22/16/18/46/1f532822-5342-4526-85c
 b-7d0f26caa956/Invitation%20Centennial%20Evensong.jpg
END:VEVENT
END:VCALENDAR
