BEGIN:VCALENDAR
VERSION:2.0
PRODID:icalendar-ruby
CALSCALE:GREGORIAN
METHOD:PUBLISH
BEGIN:VEVENT
DTSTAMP:20260424T122619Z
UID:3449-3466083@vancouver.anglican.ca
DTSTART:20260504T200000Z
DTEND:20260506T190000Z
CLASS:PUBLIC
CREATED:20260414T100318
DESCRIPTION:This year's conference is at a new venue for us in White Rock i
 n order to facilitate a special program in partnership with A Rocha Canada
 \, a faith-based environmental education and conservation organization bas
 ed in Delta.\nAs a part of this year's conference\, A Rocha will present a
 bout their work\, ministry\, and how communities of faith can engage with 
 creation care. In addition\, participants will have the opportunity to tak
 e part in some hands-on work at the A Rocha environmental centre.\nPlease 
 note that the conference will begin at 1 pm on Monday at A Rocha\, with ch
 eck-in to follow that afternoon at the Ocean Promenade Hotel\, in White Ro
 ck. \n\nThe conference will conclude by noon on Wednesday with our closing
  Eucharist service. \nFollow the link below to register. \nDeadline to r
 egister is April 20. 
LAST-MODIFIED:20260414T100318
LOCATION:White Rock\, BC 
SUMMARY:Clergy Conference 2026
URL;VALUE=URI:https://www.vancouver.anglican.ca/events/clergy-conference-20
 26/2026-05-04
ATTACH;FILENAME=Clergy Collars (1).jpg;FMTTYPE=image/jpeg:https://dq5pwpg1q
 8ru0.cloudfront.net/2026/04/14/17/03/18/56412407-16ca-4394-a9b6-67994a7e34
 cb/Clergy%20Collars%20(1).jpg
END:VEVENT
END:VCALENDAR
