BEGIN:VCALENDAR
VERSION:2.0
PRODID:icalendar-ruby
CALSCALE:GREGORIAN
METHOD:PUBLISH
BEGIN:VEVENT
DTSTAMP:20260424T051327Z
UID:3438-3407809@vancouver.anglican.ca
DTSTART:20260509T173000Z
DTEND:20260509T193000Z
CLASS:PUBLIC
CREATED:20260407T105815
DESCRIPTION:Archbishop John Stephens confirms candidates in their Anglican 
 faith. At this service\, folks may also be reaffirmed or received into the
  Anglican Church. 
LAST-MODIFIED:20260407T105815
LOCATION:Christ Church Cathedral 
SUMMARY:Confirmations 
URL;VALUE=URI:https://www.vancouver.anglican.ca/events/confirmations/2026-0
 5-09
ATTACH;FILENAME=Confirmations (1).png;FMTTYPE=image/png:https://dq5pwpg1q8r
 u0.cloudfront.net/2026/03/12/03/48/56/5e81d1a7-06a6-412e-a41c-a1613282b406
 /Confirmations%20(1).png
END:VEVENT
END:VCALENDAR
