BEGIN:VCALENDAR
VERSION:2.0
PRODID:icalendar-ruby
CALSCALE:GREGORIAN
METHOD:PUBLISH
BEGIN:VEVENT
DTSTAMP:20260424T122619Z
UID:3446-3434133@vancouver.anglican.ca
DTSTART:20260419T143000Z
DTEND:20260419T153000Z
CLASS:PUBLIC
CREATED:20260410T101007
DESCRIPTION:An hour of sung prayer\, stillness\, scripture &amp\; sacred sp
 ace with prayer stations\, supported by the Music Team from Soul Care.\nT
 he theme for this month is Still in the Centre as we enter into Easterti
 de.\nA free-will donation will be collected to support Soul Care and the m
 inistry of St. Dunstan's.  To donate through CanadaHelps.ca\, use the but
 ton below and select option "C. Sung Evening Prayer".  Thank you.
LAST-MODIFIED:20260410T101007
LOCATION:St. Dunstan\, Aldergrove
SUMMARY:Evening of Sung Prayers
URL;VALUE=URI:https://www.vancouver.anglican.ca/events/evening-of-sung-pray
 ers/2026-04-19
ATTACH;FILENAME=Evening of Sung Prayer - Eastertide.jpg;FMTTYPE=image/jpeg:
 https://dq5pwpg1q8ru0.cloudfront.net/2026/04/05/09/38/01/ec9aa188-02de-48e
 4-94dd-92d0db943661/Evening%20of%20Sung%20Prayer%20-%20Eastertide.jpg
END:VEVENT
END:VCALENDAR
