BEGIN:VCALENDAR
VERSION:2.0
PRODID:icalendar-ruby
CALSCALE:GREGORIAN
METHOD:PUBLISH
BEGIN:VEVENT
DTSTAMP:20260424T122619Z
UID:3448-3438295@vancouver.anglican.ca
DTSTART:20260426T230000Z
DTEND:20260427T000000Z
CLASS:PUBLIC
CREATED:20260410T172606
DESCRIPTION:St. Mary's\, Kerrisdale hosts this installment of the Evensong 
 Series. \n\nO Gracious Light (Bradley Ellingboe)\nPsalm 100 (Eleanor Dale
 y)\nCanticles: Magnificat and Nunc Dimittis (Herbert Murrill)\nAnthem: The
 y Shall Soar Like Eagles (Laura Manzo)\n\n
LAST-MODIFIED:20260410T172606
LOCATION:St. Mary's\, Kerrisdale 
SUMMARY:Evensong Series 
URL;VALUE=URI:https://www.vancouver.anglican.ca/events/evensong-series--344
 8/2026-04-26
ATTACH;FILENAME=Evensong series.jpg;FMTTYPE=image/jpeg:https://dq5pwpg1q8ru
 0.cloudfront.net/2026/04/11/00/26/06/19039e5d-9725-494f-85d6-085a2ea9ae55/
 Evensong%20series.jpg
END:VEVENT
END:VCALENDAR
