BEGIN:VCALENDAR
VERSION:2.0
PRODID:icalendar-ruby
CALSCALE:GREGORIAN
METHOD:PUBLISH
BEGIN:VEVENT
DTSTAMP:20260423T194339Z
UID:3447-3438294@vancouver.anglican.ca
DTSTART:20260419T230000Z
DTEND:20260420T000000Z
CLASS:PUBLIC
CREATED:20260410T172448
DESCRIPTION:Christ Church Cathedral offers this installment of this Evenson
 g Series.\n\nHymns: SNC 2\, 216\, 240\nResponses: Kenneth Leighton (1929-8
 8)\nPsalm: 114\, 115\nCanticles: Charles Wood (1866-1926) Evening Service 
 in D\nAnthem: C.H.H. Parry (1848-1918) Hear my words\, ye people\n\n
LAST-MODIFIED:20260410T172448
LOCATION:Christ Church Cathedral 
SUMMARY:Evensong Series 
URL;VALUE=URI:https://www.vancouver.anglican.ca/events/evensong-series/2026
 -04-19
ATTACH;FILENAME=Evensong series.jpg;FMTTYPE=image/jpeg:https://dq5pwpg1q8ru
 0.cloudfront.net/2026/04/11/00/24/48/c1fdeba2-6749-47ac-8f3c-ef88f4c44e2d/
 Evensong%20series.jpg
END:VEVENT
END:VCALENDAR
