BEGIN:VCALENDAR
VERSION:2.0
PRODID:icalendar-ruby
CALSCALE:GREGORIAN
METHOD:PUBLISH
BEGIN:VEVENT
DTSTAMP:20260424T020945Z
UID:3442-3303004@vancouver.anglican.ca
DTSTART:20260415T180000Z
DTEND:20260415T210000Z
CLASS:PUBLIC
CREATED:20260325T140449
DESCRIPTION:Facilitated by Rikki Kooy\, Indigenous Elder-in-Residence \nT
 his month's Feather Circle takes place on the third Wednesday of the Month
  due to Easter. \nWhat Are Feather Circles? \n"Feather Circles" are int
 ended for wisdom sharing and mutual encouragement and support towards re
 conciliation. Come and share your journey of reconciliation with others f
 rom around the Diocese. Explore the meaning of Love\, Purpose\, Reconcile
 . \nWHEN: April 15 (normally\, the second Wednesday of the month) \nWHER
 E: at the Synod Office\nTIME: from 11AM - 2PM\n\nBring your lunch\, as des
 ired. Beverages and treats provided.\nRSVP to assist with plannign: melan
 ie@sthildegards.ca\n\nMade possible in part through the generosity of the 
 Anglican Foundation of Canada.\n
LAST-MODIFIED:20260325T140449
LOCATION:Synod Office - 1410 Nanton Ave
SUMMARY:Feather Circle 
URL;VALUE=URI:https://www.vancouver.anglican.ca/events/feather-circle--3442
 /2026-04-15
ATTACH;FILENAME=Feather Circle IG.png;FMTTYPE=image/png:https://dq5pwpg1q8r
 u0.cloudfront.net/2026/03/25/21/04/49/7e31974a-43ea-4178-819a-4522135c6c2d
 /Feather%20Circle%20IG.png
END:VEVENT
END:VCALENDAR
