BEGIN:VCALENDAR
VERSION:2.0
PRODID:icalendar-ruby
CALSCALE:GREGORIAN
METHOD:PUBLISH
BEGIN:VEVENT
DTSTAMP:20260424T000535Z
UID:3282-2422725@vancouver.anglican.ca
DTSTART:20251026T000000Z
DTEND:20251026T020000Z
CLASS:PUBLIC
CREATED:20251003T122849
DESCRIPTION:St. Alban's\, Burnaby Harvest Dinner features a menu including 
 locally grown squash\, Fraser Valley smoked ham\, scalloped potatoes\, and
  BC fruit crisp served with ice cream. The event offers sit-down dining\, 
 pickup\, and delivery options. This is an exciting community event. Everyo
 ne is welcome.\nWHEN: October 25\, 2025\nTIME: Dinner service begins at 5:
 00pm\nWHERE: St Alban's Anglican Church (7717 - 19th Avenue\, Burnaby)\nCO
 ST: Dinner is $13.00/person\nAll children 13 and under are FREE\n
LAST-MODIFIED:20251003T122849
LOCATION:St. Alban's\, Burnaby (7717 - 19th Avenue\, Burnaby)
SUMMARY:Harvest Dinner 
URL;VALUE=URI:https://www.vancouver.anglican.ca/events/harvest-dinner--3282
 /2025-10-25
ATTACH;FILENAME=Harvest Dinner simple 2025.png;FMTTYPE=image/png:https://dq
 5pwpg1q8ru0.cloudfront.net/2025/10/03/19/28/49/bb625b1c-5610-4a88-8578-ade
 6e04919fa/Harvest%20Dinner%20simple%202025.png
END:VEVENT
END:VCALENDAR
