BEGIN:VCALENDAR
VERSION:2.0
PRODID:icalendar-ruby
CALSCALE:GREGORIAN
METHOD:PUBLISH
BEGIN:VEVENT
DTSTAMP:20260425T000929Z
UID:3429-3485558@vancouver.anglican.ca
DTSTART:20260530T023000Z
DTEND:20260530T040000Z
CLASS:PUBLIC
CREATED:20260416T160610
DESCRIPTION:Sing Without Ceasing is a Diocesan Choir Festival taking place 
 at Christ Church Cathedral on May 29\, 2026\, as part of the Mission Confe
 rence Weekend. \nThe evening will bring together singers from across the D
 iocese to form a Diocesan Mass Choir\, alongside congregational singing\, 
 readings and other elements of worship. The festival is being offered in c
 ollaboration with Neil Cockbourn\, Director of Music at Christ Church Cath
 edral and will include a guest address from Bishop Michael Curry. \n 
LAST-MODIFIED:20260416T160610
LOCATION:Christ Church Cathedral and Synod Office 
SUMMARY:Mission Conference 
URL;VALUE=URI:https://www.vancouver.anglican.ca/events/mission-conference--
 3429/2026-05-29
ATTACH;FILENAME=Sing Without Ceasing - 2026_Poster_proof 4.jpg;FMTTYPE=imag
 e/jpeg:https://dq5pwpg1q8ru0.cloudfront.net/2026/03/18/23/37/09/dccf1801-6
 0ce-4a6a-bf76-0df0f31d6cf2/Sing%20Without%20Ceasing%20-%202026_Poster_proo
 f%204.jpg
ATTACH;FILENAME=Mission Conference - 2026_Poster_web.png;FMTTYPE=image/png:
 https://dq5pwpg1q8ru0.cloudfront.net/2026/03/09/19/34/33/9492813a-aef9-456
 1-b780-eefa625bd405/Mission%20Conference%20-%202026_Poster_web.png
END:VEVENT
END:VCALENDAR
