BEGIN:VCALENDAR
VERSION:2.0
PRODID:icalendar-ruby
CALSCALE:GREGORIAN
METHOD:PUBLISH
BEGIN:VEVENT
DTSTAMP:20260424T071508Z
UID:3431-3418891@vancouver.anglican.ca
DTSTART:20260531T173000Z
DTEND:20260531T190000Z
CLASS:PUBLIC
CREATED:20260408T140518
DESCRIPTION:The diocesan Mission Conference wraps up on Sunday\, May 31 wit
 h a Choral Eucharist at Christ Church Cathedral. \nAll are welcome. 
LAST-MODIFIED:20260408T140518
LOCATION:Christ Church Cathedral - 690 Burrard St.\, Vancouver 
SUMMARY:Mission Conference 
URL;VALUE=URI:https://www.vancouver.anglican.ca/events/mission-conference--
 3431/2026-05-31
ATTACH;FILENAME=Mission Conference - 2026_Poster_web.png;FMTTYPE=image/png:
 https://dq5pwpg1q8ru0.cloudfront.net/2026/03/09/19/42/56/5255c209-6ad2-428
 9-abd7-c1f9a725b1ae/Mission%20Conference%20-%202026_Poster_web.png
END:VEVENT
END:VCALENDAR
