BEGIN:VCALENDAR
VERSION:2.0
PRODID:icalendar-ruby
CALSCALE:GREGORIAN
METHOD:PUBLISH
BEGIN:VEVENT
DTSTAMP:20260423T212803Z
UID:3458-3526019@vancouver.anglican.ca
DTSTART:20260425T210000Z
DTEND:20260425T220000Z
CLASS:PUBLIC
CREATED:20260421T103055
DESCRIPTION:Enjoy a Spring high tea with musical entertainment with The Sen
 ior Opus Singers.\nCome wearing your best and most creative Spring Hat! Th
 ere will be a prize for the best hat. \nTickets are $20 per person\, or $
 140 for a table of eight. email mandywilliams2@icloud.com to buy your tick
 et. \nYou can also order a summer hanging basket for your garden ($34.99)
  from the Fraser Valley Conservancy booth. 
LAST-MODIFIED:20260421T103055
LOCATION:St. George\, Ft. Langley 
SUMMARY:Spring Fling Tea 
URL;VALUE=URI:https://www.vancouver.anglican.ca/events/spring-fling-tea/202
 6-04-25
ATTACH;FILENAME=spring_flyer_adjusted_120326_copy.jpg;FMTTYPE=image/jpeg:ht
 tps://dq5pwpg1q8ru0.cloudfront.net/2026/04/21/17/30/55/6acc555c-a760-4000-
 ac92-4f15c97fcf06/spring_flyer_adjusted_120326_copy.jpg
END:VEVENT
END:VCALENDAR
