BEGIN:VCALENDAR
VERSION:2.0
PRODID:icalendar-ruby
CALSCALE:GREGORIAN
METHOD:PUBLISH
BEGIN:VEVENT
DTSTAMP:20260425T145418Z
UID:3456-3505070@vancouver.anglican.ca
DTSTART:20260516T000000Z
DTEND:20260517T190000Z
CLASS:PUBLIC
CREATED:20260419T034228
DESCRIPTION:Facilitated by: Rev. Peter Elliott\, Thomas Roach\, Rev. Lorie 
 Martin\nThe Centre’s annual retreat at Loon Lake offers exquisite space 
 to come away and enter a sacred time of silence\, nature\, spiritual pract
 ice\, community connecting\, learning\, and creative expression.\nWith the
  backdrop of lake and forest\, you are invited to explore how we are belov
 ed of God\, how our creativity connects with the Creator\, and how awe and
  humility are connected. Come and experience a time where silence is value
 d\, community prayer is offered\, spiritual and theological teaching is pr
 esented alongside opportunities to discover and exercise your creativity. 
 Bring your open mind\, searching heart and curious spirit to this time of 
 reflection and renewal.\nThis year we have the joy of a ‘dream team’ w
 ith Peter &amp\; Thomas facilitating the retreat circle and responsive cre
 ativity.  Lorie will lightly guide a variety of spiritual practices. Spir
 itual direction/companionship is included in the retreat if wanted. The fo
 od and meditation paths around the lake are remarkable. Max 20 people.\nAb
 out our Facilitators:\nThe Very Reverend Peter Elliott was Dean and Rector
  of Christ Church Cathedral\, Vancouver from 1994 to 2019. He currently wo
 rks as a leadership coach and spiritual director and teaches spirituality 
 and theology at Vancouver School of Theology. Peter has served as Prolocut
 or of General Synod\, a member of the Anglican Consultative Council\, and 
 as Chancellor of Vancouver School of Theology. He’s an occasional column
 ist\, writing about the arts and culture in the Anglican Journal and co-ho
 sts\, with Nathan LeRud the popular podcast The Gospel of Musical Theatre 
 (https://gospelofmt.podbean.com)\nFor more than twenty years textile artis
 t Thomas Roach has been inspired by the power of cloth\, particularly when
  it has connection to sacred or community stories. He believes that becaus
 e textiles are steeped in metaphor and materiality\; are accessible\, appr
 oachable and always inviting\; they are uniquely suited for community enga
 ged art projects. For Thomas\, creativity and spirituality are not only in
 separable – they are both fundamentally about encountering the Divine. H
 is community work invites participants to discover their innate creativity
 . He is a member of the Order of the Diocese of New Westminster and was aw
 arded and the Anglican Church of Canada’s Companion of Worship Arts in 2
 021.\nRev. Lorie Martin is the Vicar at St. Thomas\, Chilliwack\, and the 
 Director of The Centre for Spiritual Renewal Inter-parish ministry in the 
 DONW. Lorie is passionate about creating sacred space and encountering Div
 ine Love through nature\, worship\, and spiritual practices in solitude an
 d community.  \nDetails:\nShared room \n(2 or 3 people) $575\n(includes 
 room\, meals\, events and materials)\nPrivate room \n(8 available) $675\n 
 (includes room\, meals and materials)\nDay Rate - Saturday only - $200.00 
 (includes 3 meals plus retreat centre entrance fee and all activities)\nSc
 holarships are available\, request at: thecentreforspiritualrenewal@gmail.
 com\n 
LAST-MODIFIED:20260419T034228
LOCATION:Loon Lake\, Maple Ridge
SUMMARY:Weekend Retreat with Peter & Thomas!
URL;VALUE=URI:https://www.vancouver.anglican.ca/events/weekend-retreat-with
 -peter-thomas/2026-05-15
ATTACH;FILENAME=loooon.png;FMTTYPE=image/png:https://dq5pwpg1q8ru0.cloudfro
 nt.net/2026/03/10/17/00/25/e3373604-b507-44b7-9fd2-3739e4751066/loooon.png
ATTACH;FILENAME=Thomas Roach Headshot.JPG;FMTTYPE=image/jpeg:https://dq5pwp
 g1q8ru0.cloudfront.net/2026/03/18/16/11/54/7f6447a2-4eef-4ea1-a995-5adc6aa
 95dd1/Thomas%20Roach%20Headshot.JPG
ATTACH;FILENAME=19-08-23 pge portrait by Rose.jpg;FMTTYPE=image/jpeg:https:
 //dq5pwpg1q8ru0.cloudfront.net/2026/03/18/16/11/55/a25159da-6696-45aa-8622
 -09edd7f80101/19-08-23%20pge%20portrait%20by%20Rose.jpg
ATTACH;FILENAME=Lorie - clergy photo 2.jpg;FMTTYPE=image/jpeg:https://dq5pw
 pg1q8ru0.cloudfront.net/2026/04/19/10/40/16/70bba4e2-7c3a-43c5-91b8-e4ea20
 a8d63d/Lorie%20-%20clergy%20photo%202.jpg
END:VEVENT
END:VCALENDAR
